BEGIN:VCALENDAR
VERSION:2.0
PRODID:-//LGS St. Martin Jonglënster - ECPv5.3.0//NONSGML v1.0//EN
CALSCALE:GREGORIAN
METHOD:PUBLISH
X-WR-CALNAME:LGS St. Martin Jonglënster
X-ORIGINAL-URL:https://junglinster.lgs.lu
X-WR-CALDESC:Events for LGS St. Martin Jonglënster
BEGIN:VTIMEZONE
TZID:Europe/Luxembourg
BEGIN:DAYLIGHT
TZOFFSETFROM:+0100
TZOFFSETTO:+0200
TZNAME:CEST
DTSTART:20200329T010000
END:DAYLIGHT
BEGIN:STANDARD
TZOFFSETFROM:+0200
TZOFFSETTO:+0100
TZNAME:CET
DTSTART:20201025T010000
END:STANDARD
END:VTIMEZONE
BEGIN:VEVENT
DTSTART;TZID=Europe/Luxembourg:20200208T173000
DTEND;TZID=Europe/Luxembourg:20200208T190000
DTSTAMP:20210420T224547
CREATED:20200106T165910Z
LAST-MODIFIED:20200213T192855Z
UID:1353-1581183000-1581188400@junglinster.lgs.lu
SUMMARY:Fueskichelcher 2020
DESCRIPTION:Eng 150g oder 300g Tut Fueskichelcher\, selwer gemaach vun eisen geckegen Wëllefcher.
URL:https://junglinster.lgs.lu/event/2020-fueskichelcher/
LOCATION:Home\, 17\, rue du Village\, Jonglënster\, 6140\, Luxembourg
CATEGORIES:Wëllefcher
ORGANIZER;CN="LGS%20St.%20Martin%20Jongl%C3%ABnster":MAILTO:info@junglinster.lgs.lu
END:VEVENT
END:VCALENDAR