BEGIN:VCALENDAR
VERSION:2.0
PRODID:-//LGS St. Martin Jonglënster - ECPv5.2.1.1//NONSGML v1.0//EN
CALSCALE:GREGORIAN
METHOD:PUBLISH
X-WR-CALNAME:LGS St. Martin Jonglënster
X-ORIGINAL-URL:https://junglinster.lgs.lu
X-WR-CALDESC:Events for LGS St. Martin Jonglënster
BEGIN:VTIMEZONE
TZID:Europe/Luxembourg
BEGIN:DAYLIGHT
TZOFFSETFROM:+0100
TZOFFSETTO:+0200
TZNAME:CEST
DTSTART:20180325T010000
END:DAYLIGHT
BEGIN:STANDARD
TZOFFSETFROM:+0200
TZOFFSETTO:+0100
TZNAME:CET
DTSTART:20181028T010000
END:STANDARD
END:VTIMEZONE
BEGIN:VEVENT
DTSTART;TZID=Europe/Luxembourg:20181201T110000
DTEND;TZID=Europe/Luxembourg:20181201T220000
DTSTAMP:20201208T133959
CREATED:20181127T165237Z
LAST-MODIFIED:20200121T173053Z
UID:557-1543662000-1543701600@junglinster.lgs.lu
SUMMARY:Adventsmaart 2018
DESCRIPTION:Adventsmaart \nSamschdes\, den 1. Dezember 2018 virum Kulturzenter “Am Duerf” zu Jonglënster. \nD’Lënster Guiden a Scouten an hir Amicale invitéiren Iech/Dech op de Lënster Adventsmaart! \nVill Veräiner aus der Gemeng bidden hir Spezialitéiten (Iessen\, Gedrénks\, Dekoartikelen) um Maart an enger heemlecher a feierlecher Atmosphär un. \nReservéiert elo schonn ären Adventskranz op adventskranz.stmartin@gmail.com
URL:https://junglinster.lgs.lu/event/2018-adventsmaart/
LOCATION:Junglister\, Centre Culturel Am Duerf\, 8\, rue du Village\, Junglinster\, 6140\, Luxembourg
END:VEVENT
END:VCALENDAR